BEGIN:VCALENDAR
VERSION:2.0
PRODID:-//Bognor Regis Sailing Club - ECPv6.15.20//NONSGML v1.0//EN
CALSCALE:GREGORIAN
METHOD:PUBLISH
X-WR-CALNAME:Bognor Regis Sailing Club
X-ORIGINAL-URL:https://brsailingclub.co.uk
X-WR-CALDESC:Events for Bognor Regis Sailing Club
REFRESH-INTERVAL;VALUE=DURATION:PT1H
X-Robots-Tag:noindex
X-PUBLISHED-TTL:PT1H
BEGIN:VTIMEZONE
TZID:Europe/London
BEGIN:DAYLIGHT
TZOFFSETFROM:+0000
TZOFFSETTO:+0100
TZNAME:BST
DTSTART:20250330T010000
END:DAYLIGHT
BEGIN:STANDARD
TZOFFSETFROM:+0100
TZOFFSETTO:+0000
TZNAME:GMT
DTSTART:20251026T010000
END:STANDARD
BEGIN:DAYLIGHT
TZOFFSETFROM:+0000
TZOFFSETTO:+0100
TZNAME:BST
DTSTART:20260329T010000
END:DAYLIGHT
BEGIN:STANDARD
TZOFFSETFROM:+0100
TZOFFSETTO:+0000
TZNAME:GMT
DTSTART:20261025T010000
END:STANDARD
BEGIN:DAYLIGHT
TZOFFSETFROM:+0000
TZOFFSETTO:+0100
TZNAME:BST
DTSTART:20270328T010000
END:DAYLIGHT
BEGIN:STANDARD
TZOFFSETFROM:+0100
TZOFFSETTO:+0000
TZNAME:GMT
DTSTART:20271031T010000
END:STANDARD
END:VTIMEZONE
BEGIN:VEVENT
DTSTART;TZID=Europe/London:20260523T180000
DTEND;TZID=Europe/London:20260523T200000
DTSTAMP:20260421T042707
CREATED:20260331T130858Z
LAST-MODIFIED:20260331T130858Z
UID:3915-1779559200-1779566400@brsailingclub.co.uk
SUMMARY:Street Food Menu
DESCRIPTION:
URL:https://brsailingclub.co.uk/event/street-food-menu/
CATEGORIES:Whe Hey Cafe
END:VEVENT
BEGIN:VEVENT
DTSTART;TZID=Europe/London:20260524T130000
DTEND;TZID=Europe/London:20260524T143000
DTSTAMP:20260421T042707
CREATED:20260331T130932Z
LAST-MODIFIED:20260331T130932Z
UID:3917-1779627600-1779633000@brsailingclub.co.uk
SUMMARY:Roast Lunch
DESCRIPTION:
URL:https://brsailingclub.co.uk/event/roast-lunch-4/
CATEGORIES:Whe Hey Cafe
END:VEVENT
BEGIN:VEVENT
DTSTART;TZID=Europe/London:20260525T093000
DTEND;TZID=Europe/London:20260525T143000
DTSTAMP:20260421T042707
CREATED:20260331T131024Z
LAST-MODIFIED:20260331T131024Z
UID:3919-1779701400-1779719400@brsailingclub.co.uk
SUMMARY:Bank Holiday Breakfast & Lunch
DESCRIPTION:
URL:https://brsailingclub.co.uk/event/bank-holiday-breakfast-lunch-2/
CATEGORIES:Whe Hey Cafe
END:VEVENT
BEGIN:VEVENT
DTSTART;TZID=Europe/London:20260529T183000
DTEND;TZID=Europe/London:20260529T203000
DTSTAMP:20260421T042707
CREATED:20260331T131059Z
LAST-MODIFIED:20260331T131059Z
UID:3921-1780079400-1780086600@brsailingclub.co.uk
SUMMARY:Pizza Night
DESCRIPTION:
URL:https://brsailingclub.co.uk/event/pizza-night-4/
CATEGORIES:Whe Hey Cafe
END:VEVENT
BEGIN:VEVENT
DTSTART;TZID=Europe/London:20260530T090000
DTEND;TZID=Europe/London:20260530T190000
DTSTAMP:20260421T042707
CREATED:20260331T131131Z
LAST-MODIFIED:20260331T131131Z
UID:3923-1780131600-1780167600@brsailingclub.co.uk
SUMMARY:Breakfast\, Lunch & Supper
DESCRIPTION:
URL:https://brsailingclub.co.uk/event/breakfast-lunch-supper/
CATEGORIES:Whe Hey Cafe
END:VEVENT
END:VCALENDAR