BEGIN:VCALENDAR
VERSION:2.0
PRODID:-//Bognor Regis Sailing Club - ECPv6.15.20//NONSGML v1.0//EN
CALSCALE:GREGORIAN
METHOD:PUBLISH
X-ORIGINAL-URL:https://brsailingclub.co.uk
X-WR-CALDESC:Events for Bognor Regis Sailing Club
REFRESH-INTERVAL;VALUE=DURATION:PT1H
X-Robots-Tag:noindex
X-PUBLISHED-TTL:PT1H
BEGIN:VTIMEZONE
TZID:Europe/London
BEGIN:DAYLIGHT
TZOFFSETFROM:+0000
TZOFFSETTO:+0100
TZNAME:BST
DTSTART:20250330T010000
END:DAYLIGHT
BEGIN:STANDARD
TZOFFSETFROM:+0100
TZOFFSETTO:+0000
TZNAME:GMT
DTSTART:20251026T010000
END:STANDARD
BEGIN:DAYLIGHT
TZOFFSETFROM:+0000
TZOFFSETTO:+0100
TZNAME:BST
DTSTART:20260329T010000
END:DAYLIGHT
BEGIN:STANDARD
TZOFFSETFROM:+0100
TZOFFSETTO:+0000
TZNAME:GMT
DTSTART:20261025T010000
END:STANDARD
BEGIN:DAYLIGHT
TZOFFSETFROM:+0000
TZOFFSETTO:+0100
TZNAME:BST
DTSTART:20270328T010000
END:DAYLIGHT
BEGIN:STANDARD
TZOFFSETFROM:+0100
TZOFFSETTO:+0000
TZNAME:GMT
DTSTART:20271031T010000
END:STANDARD
END:VTIMEZONE
BEGIN:VEVENT
DTSTART;TZID=Europe/London:20261003T110000
DTEND;TZID=Europe/London:20261003T140000
DTSTAMP:20260421T061108
CREATED:20260328T122643Z
LAST-MODIFIED:20260328T122643Z
UID:3867-1791025200-1791036000@brsailingclub.co.uk
SUMMARY:Aspiring Sailors Session
DESCRIPTION:
URL:https://brsailingclub.co.uk/event/aspiring-sailors-session-7/
CATEGORIES:Sailing
END:VEVENT
BEGIN:VEVENT
DTSTART;TZID=Europe/London:20261004T140000
DTEND;TZID=Europe/London:20261004T170000
DTSTAMP:20260421T061108
CREATED:20260326T180336Z
LAST-MODIFIED:20260326T180336Z
UID:3844-1791122400-1791133200@brsailingclub.co.uk
SUMMARY:Autumn Series 5 & 6
DESCRIPTION:
URL:https://brsailingclub.co.uk/event/autumn-series-5-6/
CATEGORIES:Sailing
END:VEVENT
BEGIN:VEVENT
DTSTART;TZID=Europe/London:20261011T110000
DTEND;TZID=Europe/London:20261011T140000
DTSTAMP:20260421T061108
CREATED:20260326T180406Z
LAST-MODIFIED:20260326T180406Z
UID:3846-1791716400-1791727200@brsailingclub.co.uk
SUMMARY:Ackford Long Distance
DESCRIPTION:
URL:https://brsailingclub.co.uk/event/ackford-long-distance/
CATEGORIES:Sailing
END:VEVENT
BEGIN:VEVENT
DTSTART;TZID=Europe/London:20261018T140000
DTEND;TZID=Europe/London:20261018T170000
DTSTAMP:20260421T061108
CREATED:20260326T180431Z
LAST-MODIFIED:20260326T180431Z
UID:3848-1792332000-1792342800@brsailingclub.co.uk
SUMMARY:Autumn Series Race 7&8
DESCRIPTION:
URL:https://brsailingclub.co.uk/event/autumn-series-race-78/
CATEGORIES:Sailing
END:VEVENT
BEGIN:VEVENT
DTSTART;TZID=Europe/London:20261025T120000
DTEND;TZID=Europe/London:20261025T150000
DTSTAMP:20260421T061108
CREATED:20260326T180454Z
LAST-MODIFIED:20260326T180454Z
UID:3850-1792929600-1792940400@brsailingclub.co.uk
SUMMARY:Arun Trophy
DESCRIPTION:
URL:https://brsailingclub.co.uk/event/arun-trophy/
CATEGORIES:Sailing
END:VEVENT
END:VCALENDAR