BEGIN:VCALENDAR
VERSION:2.0
PRODID:-//Bognor Regis Sailing Club - ECPv6.15.20//NONSGML v1.0//EN
CALSCALE:GREGORIAN
METHOD:PUBLISH
X-ORIGINAL-URL:https://brsailingclub.co.uk
X-WR-CALDESC:Events for Bognor Regis Sailing Club
REFRESH-INTERVAL;VALUE=DURATION:PT1H
X-Robots-Tag:noindex
X-PUBLISHED-TTL:PT1H
BEGIN:VTIMEZONE
TZID:Europe/London
BEGIN:DAYLIGHT
TZOFFSETFROM:+0000
TZOFFSETTO:+0100
TZNAME:BST
DTSTART:20250330T010000
END:DAYLIGHT
BEGIN:STANDARD
TZOFFSETFROM:+0100
TZOFFSETTO:+0000
TZNAME:GMT
DTSTART:20251026T010000
END:STANDARD
BEGIN:DAYLIGHT
TZOFFSETFROM:+0000
TZOFFSETTO:+0100
TZNAME:BST
DTSTART:20260329T010000
END:DAYLIGHT
BEGIN:STANDARD
TZOFFSETFROM:+0100
TZOFFSETTO:+0000
TZNAME:GMT
DTSTART:20261025T010000
END:STANDARD
BEGIN:DAYLIGHT
TZOFFSETFROM:+0000
TZOFFSETTO:+0100
TZNAME:BST
DTSTART:20270328T010000
END:DAYLIGHT
BEGIN:STANDARD
TZOFFSETFROM:+0100
TZOFFSETTO:+0000
TZNAME:GMT
DTSTART:20271031T010000
END:STANDARD
END:VTIMEZONE
BEGIN:VEVENT
DTSTART;TZID=Europe/London:20260905T120000
DTEND;TZID=Europe/London:20260905T170000
DTSTAMP:20260421T041526
CREATED:20260326T180102Z
LAST-MODIFIED:20260326T180102Z
UID:3834-1788609600-1788627600@brsailingclub.co.uk
SUMMARY:Hicklin Cup Race 1 & 2
DESCRIPTION:
URL:https://brsailingclub.co.uk/event/hicklin-cup-race-1-2/
CATEGORIES:Sailing
END:VEVENT
BEGIN:VEVENT
DTSTART;TZID=Europe/London:20260906T110000
DTEND;TZID=Europe/London:20260906T150000
DTSTAMP:20260421T041526
CREATED:20260326T180137Z
LAST-MODIFIED:20260326T180137Z
UID:3836-1788692400-1788706800@brsailingclub.co.uk
SUMMARY:Hicklin Race 3 & Miles Cup
DESCRIPTION:
URL:https://brsailingclub.co.uk/event/hicklin-race-3-miles-cup/
CATEGORIES:Sailing
END:VEVENT
BEGIN:VEVENT
DTSTART;TZID=Europe/London:20260912T110000
DTEND;TZID=Europe/London:20260912T140000
DTSTAMP:20260421T041526
CREATED:20260328T122526Z
LAST-MODIFIED:20260328T122526Z
UID:3865-1789210800-1789221600@brsailingclub.co.uk
SUMMARY:Aspiring Sailors Session
DESCRIPTION:
URL:https://brsailingclub.co.uk/event/aspiring-sailors-session-6/
CATEGORIES:Sailing
END:VEVENT
BEGIN:VEVENT
DTSTART;TZID=Europe/London:20260913T110000
DTEND;TZID=Europe/London:20260913T170000
DTSTAMP:20260421T041526
CREATED:20260326T180203Z
LAST-MODIFIED:20260326T180203Z
UID:3838-1789297200-1789318800@brsailingclub.co.uk
SUMMARY:Long Distance Trophy
DESCRIPTION:
URL:https://brsailingclub.co.uk/event/long-distance-trophy/
CATEGORIES:Sailing
END:VEVENT
BEGIN:VEVENT
DTSTART;TZID=Europe/London:20260920T140000
DTEND;TZID=Europe/London:20260920T170000
DTSTAMP:20260421T041526
CREATED:20260326T180233Z
LAST-MODIFIED:20260326T180233Z
UID:3840-1789912800-1789923600@brsailingclub.co.uk
SUMMARY:Autumn Series Race 1 & 2
DESCRIPTION:
URL:https://brsailingclub.co.uk/event/autumn-series-race-1-2/
CATEGORIES:Sailing
END:VEVENT
BEGIN:VEVENT
DTSTART;TZID=Europe/London:20260927T140000
DTEND;TZID=Europe/London:20260927T170000
DTSTAMP:20260421T041526
CREATED:20260326T180308Z
LAST-MODIFIED:20260326T180308Z
UID:3842-1790517600-1790528400@brsailingclub.co.uk
SUMMARY:Autumn Series Race 3 & 4
DESCRIPTION:
URL:https://brsailingclub.co.uk/event/autumn-series-race-3-4/
CATEGORIES:Sailing
END:VEVENT
END:VCALENDAR