BEGIN:VCALENDAR
VERSION:2.0
PRODID:-//Bognor Regis Sailing Club - ECPv6.15.20//NONSGML v1.0//EN
CALSCALE:GREGORIAN
METHOD:PUBLISH
X-ORIGINAL-URL:https://brsailingclub.co.uk
X-WR-CALDESC:Events for Bognor Regis Sailing Club
REFRESH-INTERVAL;VALUE=DURATION:PT1H
X-Robots-Tag:noindex
X-PUBLISHED-TTL:PT1H
BEGIN:VTIMEZONE
TZID:Europe/London
BEGIN:DAYLIGHT
TZOFFSETFROM:+0000
TZOFFSETTO:+0100
TZNAME:BST
DTSTART:20250330T010000
END:DAYLIGHT
BEGIN:STANDARD
TZOFFSETFROM:+0100
TZOFFSETTO:+0000
TZNAME:GMT
DTSTART:20251026T010000
END:STANDARD
BEGIN:DAYLIGHT
TZOFFSETFROM:+0000
TZOFFSETTO:+0100
TZNAME:BST
DTSTART:20260329T010000
END:DAYLIGHT
BEGIN:STANDARD
TZOFFSETFROM:+0100
TZOFFSETTO:+0000
TZNAME:GMT
DTSTART:20261025T010000
END:STANDARD
BEGIN:DAYLIGHT
TZOFFSETFROM:+0000
TZOFFSETTO:+0100
TZNAME:BST
DTSTART:20270328T010000
END:DAYLIGHT
BEGIN:STANDARD
TZOFFSETFROM:+0100
TZOFFSETTO:+0000
TZNAME:GMT
DTSTART:20271031T010000
END:STANDARD
END:VTIMEZONE
BEGIN:VEVENT
DTSTART;TZID=Europe/London:20260801T110000
DTEND;TZID=Europe/London:20260801T140000
DTSTAMP:20260421T024129
CREATED:20260328T122351Z
LAST-MODIFIED:20260328T122351Z
UID:3861-1785582000-1785592800@brsailingclub.co.uk
SUMMARY:Aspiring Sailors Session
DESCRIPTION:
URL:https://brsailingclub.co.uk/event/aspiring-sailors-session-5/
CATEGORIES:Sailing
END:VEVENT
BEGIN:VEVENT
DTSTART;TZID=Europe/London:20260802T110000
DTEND;TZID=Europe/London:20260802T140000
DTSTAMP:20260421T024129
CREATED:20260326T175703Z
LAST-MODIFIED:20260326T175703Z
UID:3822-1785668400-1785679200@brsailingclub.co.uk
SUMMARY:Alan Steed Cup & Sparrow Cup
DESCRIPTION:
URL:https://brsailingclub.co.uk/event/alan-steed-cup-sparrow-cup/
CATEGORIES:Sailing
END:VEVENT
BEGIN:VEVENT
DTSTART;TZID=Europe/London:20260809T110000
DTEND;TZID=Europe/London:20260809T140000
DTSTAMP:20260421T024129
CREATED:20260326T175730Z
LAST-MODIFIED:20260326T175730Z
UID:3824-1786273200-1786284000@brsailingclub.co.uk
SUMMARY:Oxley Cup & Bates Cup
DESCRIPTION:
URL:https://brsailingclub.co.uk/event/oxley-cup-bates-cup/
CATEGORIES:Sailing
END:VEVENT
BEGIN:VEVENT
DTSTART;TZID=Europe/London:20260816T120000
DTEND;TZID=Europe/London:20260816T150000
DTSTAMP:20260421T024129
CREATED:20260326T175757Z
LAST-MODIFIED:20260326T175757Z
UID:3826-1786881600-1786892400@brsailingclub.co.uk
SUMMARY:Fast Net Trophy
DESCRIPTION:
URL:https://brsailingclub.co.uk/event/fast-net-trophy/
CATEGORIES:Sailing
END:VEVENT
BEGIN:VEVENT
DTSTART;TZID=Europe/London:20260822T110000
DTEND;TZID=Europe/London:20260822T170000
DTSTAMP:20260421T024129
CREATED:20260328T122444Z
LAST-MODIFIED:20260328T122444Z
UID:3863-1787396400-1787418000@brsailingclub.co.uk
SUMMARY:Aspiring Sailors Session (Regatta)
DESCRIPTION:
URL:https://brsailingclub.co.uk/event/aspiring-sailors-session-regatta/
CATEGORIES:Sailing
END:VEVENT
BEGIN:VEVENT
DTSTART;TZID=Europe/London:20260823T110000
DTEND;TZID=Europe/London:20260823T150000
DTSTAMP:20260421T024129
CREATED:20260326T175905Z
LAST-MODIFIED:20260326T175905Z
UID:3828-1787482800-1787497200@brsailingclub.co.uk
SUMMARY:Cat Cup/ Dingy Half boat cup  Race 1\, 2 & 3
DESCRIPTION:
URL:https://brsailingclub.co.uk/event/cat-cup-dingy-half-boat-cup-race-1-2-3/
CATEGORIES:Sailing
END:VEVENT
BEGIN:VEVENT
DTSTART;TZID=Europe/London:20260830T110000
DTEND;TZID=Europe/London:20260830T230000
DTSTAMP:20260421T024129
CREATED:20260326T175949Z
LAST-MODIFIED:20260326T175949Z
UID:3830-1788087600-1788130800@brsailingclub.co.uk
SUMMARY:Paul Adams Cup Race 1 & 2 + Band!!!!
DESCRIPTION:
URL:https://brsailingclub.co.uk/event/paul-adams-cup-race-1-2-band/
CATEGORIES:Sailing
END:VEVENT
BEGIN:VEVENT
DTSTART;TZID=Europe/London:20260831T110000
DTEND;TZID=Europe/London:20260831T140000
DTSTAMP:20260421T024129
CREATED:20260326T180027Z
LAST-MODIFIED:20260326T180027Z
UID:3832-1788174000-1788184800@brsailingclub.co.uk
SUMMARY:Paul Adams Cup Race 3 + catch up slot
DESCRIPTION:
URL:https://brsailingclub.co.uk/event/paul-adams-cup-race-3-catch-up-slot/
CATEGORIES:Sailing
END:VEVENT
END:VCALENDAR