BEGIN:VCALENDAR
VERSION:2.0
PRODID:-//Bognor Regis Sailing Club - ECPv6.15.20//NONSGML v1.0//EN
CALSCALE:GREGORIAN
METHOD:PUBLISH
X-WR-CALNAME:Bognor Regis Sailing Club
X-ORIGINAL-URL:https://brsailingclub.co.uk
X-WR-CALDESC:Events for Bognor Regis Sailing Club
REFRESH-INTERVAL;VALUE=DURATION:PT1H
X-Robots-Tag:noindex
X-PUBLISHED-TTL:PT1H
BEGIN:VTIMEZONE
TZID:Europe/London
BEGIN:DAYLIGHT
TZOFFSETFROM:+0000
TZOFFSETTO:+0100
TZNAME:BST
DTSTART:20250330T010000
END:DAYLIGHT
BEGIN:STANDARD
TZOFFSETFROM:+0100
TZOFFSETTO:+0000
TZNAME:GMT
DTSTART:20251026T010000
END:STANDARD
BEGIN:DAYLIGHT
TZOFFSETFROM:+0000
TZOFFSETTO:+0100
TZNAME:BST
DTSTART:20260329T010000
END:DAYLIGHT
BEGIN:STANDARD
TZOFFSETFROM:+0100
TZOFFSETTO:+0000
TZNAME:GMT
DTSTART:20261025T010000
END:STANDARD
BEGIN:DAYLIGHT
TZOFFSETFROM:+0000
TZOFFSETTO:+0100
TZNAME:BST
DTSTART:20270328T010000
END:DAYLIGHT
BEGIN:STANDARD
TZOFFSETFROM:+0100
TZOFFSETTO:+0000
TZNAME:GMT
DTSTART:20271031T010000
END:STANDARD
END:VTIMEZONE
BEGIN:VEVENT
DTSTART;TZID=Europe/London:20260704T110000
DTEND;TZID=Europe/London:20260704T140000
DTSTAMP:20260421T010507
CREATED:20260328T122135Z
LAST-MODIFIED:20260328T122135Z
UID:3859-1783162800-1783173600@brsailingclub.co.uk
SUMMARY:Aspiring Sailors Session
DESCRIPTION:
URL:https://brsailingclub.co.uk/event/aspiring-sailors-session-4/
CATEGORIES:Sailing
END:VEVENT
BEGIN:VEVENT
DTSTART;TZID=Europe/London:20260712T110000
DTEND;TZID=Europe/London:20260712T140000
DTSTAMP:20260421T010507
CREATED:20260326T175519Z
LAST-MODIFIED:20260326T175519Z
UID:3816-1783854000-1783864800@brsailingclub.co.uk
SUMMARY:Summer Series Race 7 & 8
DESCRIPTION:
URL:https://brsailingclub.co.uk/event/summer-series-race-7-8/
CATEGORIES:Sailing
END:VEVENT
BEGIN:VEVENT
DTSTART;TZID=Europe/London:20260719T120000
DTEND;TZID=Europe/London:20260719T170000
DTSTAMP:20260421T010507
CREATED:20260326T175549Z
LAST-MODIFIED:20260326T175549Z
UID:3818-1784462400-1784480400@brsailingclub.co.uk
SUMMARY:Tythe Barn
DESCRIPTION:
URL:https://brsailingclub.co.uk/event/tythe-barn/
CATEGORIES:Sailing
END:VEVENT
BEGIN:VEVENT
DTSTART;VALUE=DATE:20260725
DTEND;VALUE=DATE:20260726
DTSTAMP:20260421T010507
CREATED:20260226T084143Z
LAST-MODIFIED:20260329T110200Z
UID:3757-1784937600-1785023999@brsailingclub.co.uk
SUMMARY:Brighton Raid
DESCRIPTION:
URL:https://brsailingclub.co.uk/event/brighton-sailing-club-visit/
CATEGORIES:Club Social,Sailing
END:VEVENT
BEGIN:VEVENT
DTSTART;TZID=Europe/London:20260726T120000
DTEND;TZID=Europe/London:20260726T150000
DTSTAMP:20260421T010507
CREATED:20260326T175618Z
LAST-MODIFIED:20260326T175618Z
UID:3820-1785067200-1785078000@brsailingclub.co.uk
SUMMARY:Whey Hey Trophy & Enterprise Cup (Sail GP)
DESCRIPTION:
URL:https://brsailingclub.co.uk/event/whey-hey-trophy-enterprise-cup-sail-gp/
CATEGORIES:Sailing
END:VEVENT
END:VCALENDAR