BEGIN:VCALENDAR
VERSION:2.0
PRODID:-//Bognor Regis Sailing Club - ECPv6.15.20//NONSGML v1.0//EN
CALSCALE:GREGORIAN
METHOD:PUBLISH
X-WR-CALNAME:Bognor Regis Sailing Club
X-ORIGINAL-URL:https://brsailingclub.co.uk
X-WR-CALDESC:Events for Bognor Regis Sailing Club
REFRESH-INTERVAL;VALUE=DURATION:PT1H
X-Robots-Tag:noindex
X-PUBLISHED-TTL:PT1H
BEGIN:VTIMEZONE
TZID:Europe/London
BEGIN:DAYLIGHT
TZOFFSETFROM:+0000
TZOFFSETTO:+0100
TZNAME:BST
DTSTART:20250330T010000
END:DAYLIGHT
BEGIN:STANDARD
TZOFFSETFROM:+0100
TZOFFSETTO:+0000
TZNAME:GMT
DTSTART:20251026T010000
END:STANDARD
BEGIN:DAYLIGHT
TZOFFSETFROM:+0000
TZOFFSETTO:+0100
TZNAME:BST
DTSTART:20260329T010000
END:DAYLIGHT
BEGIN:STANDARD
TZOFFSETFROM:+0100
TZOFFSETTO:+0000
TZNAME:GMT
DTSTART:20261025T010000
END:STANDARD
BEGIN:DAYLIGHT
TZOFFSETFROM:+0000
TZOFFSETTO:+0100
TZNAME:BST
DTSTART:20270328T010000
END:DAYLIGHT
BEGIN:STANDARD
TZOFFSETFROM:+0100
TZOFFSETTO:+0000
TZNAME:GMT
DTSTART:20271031T010000
END:STANDARD
END:VTIMEZONE
BEGIN:VEVENT
DTSTART;TZID=Europe/London:20260606T110000
DTEND;TZID=Europe/London:20260606T150000
DTSTAMP:20260420T234821
CREATED:20260326T174924Z
LAST-MODIFIED:20260418T084911Z
UID:3796-1780743600-1780758000@brsailingclub.co.uk
SUMMARY:OPEN DAY
DESCRIPTION:
URL:https://brsailingclub.co.uk/event/open-day-2/
CATEGORIES:Club Social,Sailing
END:VEVENT
BEGIN:VEVENT
DTSTART;TZID=Europe/London:20260607T120000
DTEND;TZID=Europe/London:20260607T150000
DTSTAMP:20260420T234821
CREATED:20260326T175216Z
LAST-MODIFIED:20260326T175216Z
UID:3806-1780833600-1780844400@brsailingclub.co.uk
SUMMARY:RNLI Pennant &  Pimms Cup
DESCRIPTION:
URL:https://brsailingclub.co.uk/event/rnli-pennant-pimms-cup/
CATEGORIES:Sailing
END:VEVENT
BEGIN:VEVENT
DTSTART;TZID=Europe/London:20260613T110000
DTEND;TZID=Europe/London:20260613T140000
DTSTAMP:20260420T234821
CREATED:20260328T122056Z
LAST-MODIFIED:20260328T122056Z
UID:3857-1781348400-1781359200@brsailingclub.co.uk
SUMMARY:Aspiring Sailors Session
DESCRIPTION:
URL:https://brsailingclub.co.uk/event/aspiring-sailors-session-3/
CATEGORIES:Sailing
END:VEVENT
BEGIN:VEVENT
DTSTART;TZID=Europe/London:20260614T130000
DTEND;TZID=Europe/London:20260614T160000
DTSTAMP:20260420T234821
CREATED:20260326T175254Z
LAST-MODIFIED:20260326T175254Z
UID:3808-1781442000-1781452800@brsailingclub.co.uk
SUMMARY:Summer Series Race 3 & 4
DESCRIPTION:
URL:https://brsailingclub.co.uk/event/summer-series-race-3-4/
CATEGORIES:Sailing
END:VEVENT
BEGIN:VEVENT
DTSTART;TZID=Europe/London:20260621T120000
DTEND;TZID=Europe/London:20260621T150000
DTSTAMP:20260420T234821
CREATED:20260326T175328Z
LAST-MODIFIED:20260326T175328Z
UID:3810-1782043200-1782054000@brsailingclub.co.uk
SUMMARY:Summer Series 5 & 6
DESCRIPTION:
URL:https://brsailingclub.co.uk/event/summer-series-5-6/
CATEGORIES:Sailing
END:VEVENT
BEGIN:VEVENT
DTSTART;TZID=Europe/London:20260628T130000
DTEND;TZID=Europe/London:20260628T160000
DTSTAMP:20260420T234821
CREATED:20260326T175404Z
LAST-MODIFIED:20260326T175404Z
UID:3812-1782651600-1782662400@brsailingclub.co.uk
SUMMARY:King George V Cup & Croxford Trophy
DESCRIPTION:
URL:https://brsailingclub.co.uk/event/king-george-v-cup-croxford-trophy/
CATEGORIES:Sailing
END:VEVENT
END:VCALENDAR