BEGIN:VCALENDAR
VERSION:2.0
PRODID:-//Bognor Regis Sailing Club - ECPv6.15.20//NONSGML v1.0//EN
CALSCALE:GREGORIAN
METHOD:PUBLISH
X-ORIGINAL-URL:https://brsailingclub.co.uk
X-WR-CALDESC:Events for Bognor Regis Sailing Club
REFRESH-INTERVAL;VALUE=DURATION:PT1H
X-Robots-Tag:noindex
X-PUBLISHED-TTL:PT1H
BEGIN:VTIMEZONE
TZID:Europe/London
BEGIN:DAYLIGHT
TZOFFSETFROM:+0000
TZOFFSETTO:+0100
TZNAME:BST
DTSTART:20250330T010000
END:DAYLIGHT
BEGIN:STANDARD
TZOFFSETFROM:+0100
TZOFFSETTO:+0000
TZNAME:GMT
DTSTART:20251026T010000
END:STANDARD
BEGIN:DAYLIGHT
TZOFFSETFROM:+0000
TZOFFSETTO:+0100
TZNAME:BST
DTSTART:20260329T010000
END:DAYLIGHT
BEGIN:STANDARD
TZOFFSETFROM:+0100
TZOFFSETTO:+0000
TZNAME:GMT
DTSTART:20261025T010000
END:STANDARD
BEGIN:DAYLIGHT
TZOFFSETFROM:+0000
TZOFFSETTO:+0100
TZNAME:BST
DTSTART:20270328T010000
END:DAYLIGHT
BEGIN:STANDARD
TZOFFSETFROM:+0100
TZOFFSETTO:+0000
TZNAME:GMT
DTSTART:20271031T010000
END:STANDARD
END:VTIMEZONE
BEGIN:VEVENT
DTSTART;TZID=Europe/London:20260503T110000
DTEND;TZID=Europe/London:20260503T140000
DTSTAMP:20260420T222708
CREATED:20260326T174605Z
LAST-MODIFIED:20260326T181142Z
UID:3788-1777806000-1777816800@brsailingclub.co.uk
SUMMARY:Hickman Bowl Race 1 & 2
DESCRIPTION:
URL:https://brsailingclub.co.uk/event/hickman-bowl-race-1-2/
CATEGORIES:Sailing
END:VEVENT
BEGIN:VEVENT
DTSTART;TZID=Europe/London:20260504T110000
DTEND;TZID=Europe/London:20260504T140000
DTSTAMP:20260420T222708
CREATED:20260326T174645Z
LAST-MODIFIED:20260326T181213Z
UID:3790-1777892400-1777903200@brsailingclub.co.uk
SUMMARY:Hickman Bowl + Catch up race
DESCRIPTION:
URL:https://brsailingclub.co.uk/event/hickman-bowl-catch-up-race/
CATEGORIES:Sailing
END:VEVENT
BEGIN:VEVENT
DTSTART;TZID=Europe/London:20260509T140000
DTEND;TZID=Europe/London:20260509T170000
DTSTAMP:20260420T222708
CREATED:20260326T174745Z
LAST-MODIFIED:20260326T174745Z
UID:3792-1778335200-1778346000@brsailingclub.co.uk
SUMMARY:Vindaloo Cup (to include Social sailors)
DESCRIPTION:
URL:https://brsailingclub.co.uk/event/vindaloo-cup-to-include-social-sailors/
CATEGORIES:Sailing
END:VEVENT
BEGIN:VEVENT
DTSTART;TZID=Europe/London:20260510T140000
DTEND;TZID=Europe/London:20260510T170000
DTSTAMP:20260420T222708
CREATED:20260326T174814Z
LAST-MODIFIED:20260326T174814Z
UID:3794-1778421600-1778432400@brsailingclub.co.uk
SUMMARY:Spring Series Race 5 & 6
DESCRIPTION:
URL:https://brsailingclub.co.uk/event/spring-series-race-5-6/
CATEGORIES:Sailing
END:VEVENT
BEGIN:VEVENT
DTSTART;TZID=Europe/London:20260517T140000
DTEND;TZID=Europe/London:20260517T170000
DTSTAMP:20260420T222708
CREATED:20260326T174953Z
LAST-MODIFIED:20260326T174953Z
UID:3798-1779026400-1779037200@brsailingclub.co.uk
SUMMARY:Spring Series Race 7 & 8
DESCRIPTION:
URL:https://brsailingclub.co.uk/event/spring-series-race-7-8/
CATEGORIES:Sailing
END:VEVENT
BEGIN:VEVENT
DTSTART;TZID=Europe/London:20260523T110000
DTEND;TZID=Europe/London:20260523T140000
DTSTAMP:20260420T222708
CREATED:20260328T122016Z
LAST-MODIFIED:20260328T122016Z
UID:3855-1779534000-1779544800@brsailingclub.co.uk
SUMMARY:Aspiring Sailors Session
DESCRIPTION:
URL:https://brsailingclub.co.uk/event/aspiring-sailors-session-2/
CATEGORIES:Sailing
END:VEVENT
BEGIN:VEVENT
DTSTART;TZID=Europe/London:20260524T140000
DTEND;TZID=Europe/London:20260524T170000
DTSTAMP:20260420T222708
CREATED:20260326T175032Z
LAST-MODIFIED:20260326T175032Z
UID:3800-1779631200-1779642000@brsailingclub.co.uk
SUMMARY:Punchbowl (aka Punch up) Trophy Race 1 & 2
DESCRIPTION:
URL:https://brsailingclub.co.uk/event/punchbowl-aka-punch-up-trophy-race-1-2/
CATEGORIES:Sailing
END:VEVENT
BEGIN:VEVENT
DTSTART;TZID=Europe/London:20260525T110000
DTEND;TZID=Europe/London:20260525T140000
DTSTAMP:20260420T222708
CREATED:20260326T175114Z
LAST-MODIFIED:20260326T175114Z
UID:3802-1779706800-1779717600@brsailingclub.co.uk
SUMMARY:Punchbowl Race 3 + Catch up race
DESCRIPTION:
URL:https://brsailingclub.co.uk/event/punchbowl-race-3-catch-up-race/
CATEGORIES:Sailing
END:VEVENT
BEGIN:VEVENT
DTSTART;TZID=Europe/London:20260530T120000
DTEND;TZID=Europe/London:20260530T170000
DTSTAMP:20260420T222708
CREATED:20260326T175449Z
LAST-MODIFIED:20260329T175920Z
UID:3814-1780142400-1780160400@brsailingclub.co.uk
SUMMARY:Town Cup
DESCRIPTION:
URL:https://brsailingclub.co.uk/event/town-cup/
CATEGORIES:Club Social,Sailing
END:VEVENT
BEGIN:VEVENT
DTSTART;TZID=Europe/London:20260531T140000
DTEND;TZID=Europe/London:20260531T170000
DTSTAMP:20260420T222708
CREATED:20260326T175140Z
LAST-MODIFIED:20260326T175140Z
UID:3804-1780236000-1780246800@brsailingclub.co.uk
SUMMARY:Summer Series Race 1 & 2
DESCRIPTION:
URL:https://brsailingclub.co.uk/event/summer-series-race-1-2/
CATEGORIES:Sailing
END:VEVENT
END:VCALENDAR